BEGIN:VCALENDAR
VERSION:2.0
PRODID:-//South African National Antarctic Programme - ECPv6.15.20//NONSGML v1.0//EN
CALSCALE:GREGORIAN
METHOD:PUBLISH
X-WR-CALNAME:South African National Antarctic Programme
X-ORIGINAL-URL:https://www.sanap.ac.za
X-WR-CALDESC:Events for South African National Antarctic Programme
REFRESH-INTERVAL;VALUE=DURATION:PT1H
X-Robots-Tag:noindex
X-PUBLISHED-TTL:PT1H
BEGIN:VTIMEZONE
TZID:Africa/Johannesburg
BEGIN:STANDARD
TZOFFSETFROM:+0200
TZOFFSETTO:+0200
TZNAME:SAST
DTSTART:20240101T000000
END:STANDARD
END:VTIMEZONE
BEGIN:VEVENT
DTSTART;VALUE=DATE:20260216
DTEND;VALUE=DATE:20260221
DTSTAMP:20260424T173759
CREATED:20251111T095517Z
LAST-MODIFIED:20251111T100024Z
UID:10001565-1771200000-1771631999@www.sanap.ac.za
SUMMARY:United Nations/Costa Rica Workshop on Machine Learning
DESCRIPTION:Applied to Space Weather and Global Navigation Satellite Systems
URL:https://www.sanap.ac.za/event/united-nations-costa-rica-workshop-on-machine-learning
LOCATION:City of San Jose
CATEGORIES:International
END:VEVENT
BEGIN:VEVENT
DTSTART;VALUE=DATE:20260211
DTEND;VALUE=DATE:20260212
DTSTAMP:20260424T173759
CREATED:20240815T085601Z
LAST-MODIFIED:20240830T073952Z
UID:10001107-1770768000-1770854399@www.sanap.ac.za
SUMMARY:International Day of Women and Girls in Science
DESCRIPTION:
URL:https://www.sanap.ac.za/event/international-day-of-women-and-girls-in-science-2/2026-02-11
CATEGORIES:International
END:VEVENT
BEGIN:VEVENT
DTSTART;VALUE=DATE:20260209
DTEND;VALUE=DATE:20260213
DTSTAMP:20260424T173759
CREATED:20251111T095247Z
LAST-MODIFIED:20251111T095247Z
UID:10001564-1770595200-1770940799@www.sanap.ac.za
SUMMARY:CliC Open Science Conference "The Changing Cryosphere: Science\, Impacts\, and Adaptation" 
DESCRIPTION:
URL:https://www.sanap.ac.za/event/clic-open-science-conference-the-changing-cryosphere-science-impacts-and-adaptation
CATEGORIES:International
END:VEVENT
BEGIN:VEVENT
DTSTART;VALUE=DATE:20260202
DTEND;VALUE=DATE:20260203
DTSTAMP:20260424T173759
CREATED:20240815T085726Z
LAST-MODIFIED:20240830T115652Z
UID:10001194-1769990400-1770076799@www.sanap.ac.za
SUMMARY:World Wetlands Day
DESCRIPTION:
URL:https://www.sanap.ac.za/event/world-wetlands-day-prince-edward-islands-2/2026-02-02
CATEGORIES:International
END:VEVENT
BEGIN:VEVENT
DTSTART;VALUE=DATE:20260202
DTEND;VALUE=DATE:20260203
DTSTAMP:20260424T173759
CREATED:20240815T085601Z
LAST-MODIFIED:20240830T095255Z
UID:10001117-1769990400-1770076799@www.sanap.ac.za
SUMMARY:World Wildlife Day
DESCRIPTION:
URL:https://www.sanap.ac.za/event/world-wildlife-day-2/2026-02-02
CATEGORIES:International
END:VEVENT
BEGIN:VEVENT
DTSTART;VALUE=DATE:20260124
DTEND;VALUE=DATE:20260125
DTSTAMP:20260424T173759
CREATED:20240815T085555Z
LAST-MODIFIED:20240830T092843Z
UID:10001102-1769212800-1769299199@www.sanap.ac.za
SUMMARY:International Day of Education
DESCRIPTION:
URL:https://www.sanap.ac.za/event/international-day-of-education-2/2026-01-24
CATEGORIES:International
END:VEVENT
BEGIN:VEVENT
DTSTART;VALUE=DATE:20260119
DTEND;VALUE=DATE:20260120
DTSTAMP:20260424T173759
CREATED:20240815T085554Z
LAST-MODIFIED:20240830T121551Z
UID:10001092-1768780800-1768867199@www.sanap.ac.za
SUMMARY:This day in history: Official Opening of SANAE IV base in 1997
DESCRIPTION:
URL:https://www.sanap.ac.za/event/this-day-in-history-official-opening-of-sanae-iv-base-in-1997-2/2026-01-19
CATEGORIES:National
END:VEVENT
BEGIN:VEVENT
DTSTART;VALUE=DATE:20260104
DTEND;VALUE=DATE:20260105
DTSTAMP:20260424T173759
CREATED:20240815T085554Z
LAST-MODIFIED:20240830T121824Z
UID:10001086-1767484800-1767571199@www.sanap.ac.za
SUMMARY:This day in history: Prince Edward Island Annexation in 1948
DESCRIPTION:
URL:https://www.sanap.ac.za/event/this-day-in-history-prince-edward-island-annexation-in-1948-2/2026-01-04
CATEGORIES:National
END:VEVENT
BEGIN:VEVENT
DTSTART;VALUE=DATE:20251229
DTEND;VALUE=DATE:20251230
DTSTAMP:20260424T173759
CREATED:20240815T085554Z
LAST-MODIFIED:20240830T120836Z
UID:10001079-1766966400-1767052799@www.sanap.ac.za
SUMMARY:This day in history: Marion Island Annexation in 1947
DESCRIPTION:
URL:https://www.sanap.ac.za/event/this-day-in-history-marion-island-annexation-in-1947-2/2025-12-29
CATEGORIES:National
END:VEVENT
BEGIN:VEVENT
DTSTART;VALUE=DATE:20251223
DTEND;VALUE=DATE:20251224
DTSTAMP:20260424T173759
CREATED:20240911T120802Z
LAST-MODIFIED:20251209T134139Z
UID:10001399-1766448000-1766534399@www.sanap.ac.za
SUMMARY:SA Agulhas II Voyage to SANAE Departure
DESCRIPTION:
URL:https://www.sanap.ac.za/event/sa-agulhas-departure
CATEGORIES:International,National
END:VEVENT
BEGIN:VEVENT
DTSTART;VALUE=DATE:20251202
DTEND;VALUE=DATE:20251206
DTSTAMP:20260424T173759
CREATED:20251111T095041Z
LAST-MODIFIED:20251111T095041Z
UID:10001562-1764633600-1764979199@www.sanap.ac.za
SUMMARY:The 16th Symposium on Polar Science
DESCRIPTION:
URL:https://www.sanap.ac.za/event/the-16th-symposium-on-polar-science
LOCATION:National Institute of Polar Research (NIPR)
CATEGORIES:International
END:VEVENT
BEGIN:VEVENT
DTSTART;VALUE=DATE:20251201
DTEND;VALUE=DATE:20251205
DTSTAMP:20260424T173759
CREATED:20251111T094729Z
LAST-MODIFIED:20251111T094729Z
UID:10001559-1764547200-1764892799@www.sanap.ac.za
SUMMARY:World Conference of Science Journalists 2025
DESCRIPTION:
URL:https://www.sanap.ac.za/event/world-conference-of-science-journalists-2025
LOCATION:CSIR\, Pretoria
CATEGORIES:International,National
END:VEVENT
BEGIN:VEVENT
DTSTART;VALUE=DATE:20251201
DTEND;VALUE=DATE:20251202
DTSTAMP:20260424T173759
CREATED:20240815T085446Z
LAST-MODIFIED:20240830T084727Z
UID:10001002-1764547200-1764633599@www.sanap.ac.za
SUMMARY:Antarctica Day
DESCRIPTION:
URL:https://www.sanap.ac.za/event/antarctica-day-2/2025-12-01
CATEGORIES:International
END:VEVENT
BEGIN:VEVENT
DTSTART;VALUE=DATE:20251124
DTEND;VALUE=DATE:20251129
DTSTAMP:20260424T173759
CREATED:20251111T094601Z
LAST-MODIFIED:20251111T094647Z
UID:10001558-1763942400-1764374399@www.sanap.ac.za
SUMMARY:SFSA 2025
DESCRIPTION:
URL:https://www.sanap.ac.za/event/sfsa-2025
LOCATION:CSIR\, Pretoria
CATEGORIES:National
END:VEVENT
BEGIN:VEVENT
DTSTART;VALUE=DATE:20251124
DTEND;VALUE=DATE:20251126
DTSTAMP:20260424T173759
CREATED:20251111T094951Z
LAST-MODIFIED:20251111T094951Z
UID:10001561-1763942400-1764115199@www.sanap.ac.za
SUMMARY:SaGAA VIII Leadership Meet 2025
DESCRIPTION:
URL:https://www.sanap.ac.za/event/sagaa-viii-leadership-meet-2025
CATEGORIES:International
END:VEVENT
BEGIN:VEVENT
DTSTART;VALUE=DATE:20251121
DTEND;VALUE=DATE:20251122
DTSTAMP:20260424T173759
CREATED:20240815T145836Z
LAST-MODIFIED:20240830T090507Z
UID:10001350-1763683200-1763769599@www.sanap.ac.za
SUMMARY:All-Atlantic Ocean Research and Innovation Alliance Forum
DESCRIPTION:
URL:https://www.sanap.ac.za/event/all-atlantic-ocean-research-and-innovation-alliance-forum/2025-11-21
CATEGORIES:International
END:VEVENT
BEGIN:VEVENT
DTSTART;VALUE=DATE:20251117
DTEND;VALUE=DATE:20251122
DTSTAMP:20260424T173759
CREATED:20251111T094514Z
LAST-MODIFIED:20251111T094514Z
UID:10001557-1763337600-1763769599@www.sanap.ac.za
SUMMARY:Geotraces Summer School
DESCRIPTION:
URL:https://www.sanap.ac.za/event/geotraces-summer-school
LOCATION:Breakwater Lodge\, Cape Town
CATEGORIES:National
END:VEVENT
BEGIN:VEVENT
DTSTART;VALUE=DATE:20251116
DTEND;VALUE=DATE:20251120
DTSTAMP:20260424T173759
CREATED:20251111T065425Z
LAST-MODIFIED:20251111T094307Z
UID:10001556-1763251200-1763596799@www.sanap.ac.za
SUMMARY:7th SANAP Symposium 2025
DESCRIPTION:
URL:https://www.sanap.ac.za/event/7th-sanap-symposium-2025
LOCATION:Kwalata Game Lodge\, Dinokeng
CATEGORIES:National
END:VEVENT
BEGIN:VEVENT
DTSTART;VALUE=DATE:20251115
DTEND;VALUE=DATE:20251120
DTSTAMP:20260424T173759
CREATED:20251111T095128Z
LAST-MODIFIED:20251111T095128Z
UID:10001563-1763164800-1763596799@www.sanap.ac.za
SUMMARY:AGU25 – Annual Meeting
DESCRIPTION:
URL:https://www.sanap.ac.za/event/agu25-annual-meeting
LOCATION:New Orleans\, Louisiana\, USA
CATEGORIES:International
END:VEVENT
BEGIN:VEVENT
DTSTART;VALUE=DATE:20251110
DTEND;VALUE=DATE:20251115
DTSTAMP:20260424T173759
CREATED:20251111T094908Z
LAST-MODIFIED:20251111T094908Z
UID:10001560-1762732800-1763164799@www.sanap.ac.za
SUMMARY:Beacon Satellite Symposium
DESCRIPTION:
URL:https://www.sanap.ac.za/event/beacon-satellite-symposium
LOCATION:Beacon Satellite Symposium 2025
CATEGORIES:International
END:VEVENT
BEGIN:VEVENT
DTSTART;VALUE=DATE:20251110
DTEND;VALUE=DATE:20251111
DTSTAMP:20260424T173759
CREATED:20240815T085915Z
LAST-MODIFIED:20240830T071434Z
UID:10001305-1762732800-1762819199@www.sanap.ac.za
SUMMARY:World Science Day for Peace and Development
DESCRIPTION:
URL:https://www.sanap.ac.za/event/world-science-day-for-peace-and-development-2/2025-11-10
CATEGORIES:International
END:VEVENT
BEGIN:VEVENT
DTSTART;VALUE=DATE:20251103
DTEND;VALUE=DATE:20251104
DTSTAMP:20260424T173759
CREATED:20240830T064638Z
LAST-MODIFIED:20240830T064638Z
UID:10001353-1762128000-1762214399@www.sanap.ac.za
SUMMARY:World Digital Preservation Day
DESCRIPTION:
URL:https://www.sanap.ac.za/event/world-digital-preservation-day-3/2025-11-03
CATEGORIES:International
END:VEVENT
BEGIN:VEVENT
DTSTART;VALUE=DATE:20251027
DTEND;VALUE=DATE:20251028
DTSTAMP:20260424T173759
CREATED:20240815T085922Z
LAST-MODIFIED:20240830T093846Z
UID:10001170-1761523200-1761609599@www.sanap.ac.za
SUMMARY:World Day for Audiovisual Heritage
DESCRIPTION:
URL:https://www.sanap.ac.za/event/world-day-for-audiovisual-heritage-2023-2/2025-10-27
CATEGORIES:International
END:VEVENT
BEGIN:VEVENT
DTSTART;VALUE=DATE:20251023
DTEND;VALUE=DATE:20251031
DTSTAMP:20260424T173759
CREATED:20240815T085656Z
LAST-MODIFIED:20240830T064302Z
UID:10001158-1761177600-1761868799@www.sanap.ac.za
SUMMARY:International Data Week
DESCRIPTION:
URL:https://www.sanap.ac.za/event/international-data-week/2025-10-23
CATEGORIES:International
END:VEVENT
BEGIN:VEVENT
DTSTART;VALUE=DATE:20251009
DTEND;VALUE=DATE:20251010
DTSTAMP:20260424T173759
CREATED:20240815T085810Z
LAST-MODIFIED:20240816T104751Z
UID:10001231-1759968000-1760054399@www.sanap.ac.za
SUMMARY:World Post Day
DESCRIPTION:
URL:https://www.sanap.ac.za/event/world-post-day-2/2025-10-09
CATEGORIES:International
END:VEVENT
BEGIN:VEVENT
DTSTART;VALUE=DATE:20251004
DTEND;VALUE=DATE:20251011
DTSTAMP:20260424T173759
CREATED:20240815T085915Z
LAST-MODIFIED:20240902T074112Z
UID:10001308-1759536000-1760140799@www.sanap.ac.za
SUMMARY:World Space Week
DESCRIPTION:
URL:https://www.sanap.ac.za/event/world-space-week-2023-2/2025-10-04
CATEGORIES:International,National
END:VEVENT
BEGIN:VEVENT
DTSTART;VALUE=DATE:20250929
DTEND;VALUE=DATE:20250930
DTSTAMP:20260424T173759
CREATED:20240815T085810Z
LAST-MODIFIED:20240830T064434Z
UID:10001236-1759104000-1759190399@www.sanap.ac.za
SUMMARY:World Maritime Day
DESCRIPTION:
URL:https://www.sanap.ac.za/event/world-maritime-day-2/2025-09-29
CATEGORIES:International
END:VEVENT
BEGIN:VEVENT
DTSTART;VALUE=DATE:20250924
DTEND;VALUE=DATE:20250925
DTSTAMP:20260424T173759
CREATED:20240815T085449Z
LAST-MODIFIED:20240830T121647Z
UID:10001029-1758672000-1758758399@www.sanap.ac.za
SUMMARY:Heritage Day
DESCRIPTION:
URL:https://www.sanap.ac.za/event/heritage-day-2/2025-09-24
CATEGORIES:National
END:VEVENT
BEGIN:VEVENT
DTSTART;VALUE=DATE:20250916
DTEND;VALUE=DATE:20250917
DTSTAMP:20260424T173759
CREATED:20240815T085923Z
LAST-MODIFIED:20240911T122540Z
UID:10001177-1757980800-1758067199@www.sanap.ac.za
SUMMARY:International Day for the Preservation of the Ozone Layer
DESCRIPTION:
URL:https://www.sanap.ac.za/event/international-day-for-the-preservation-of-the-ozone-layer-2025-09-16
CATEGORIES:International,National
END:VEVENT
BEGIN:VEVENT
DTSTART;VALUE=DATE:20250817
DTEND;VALUE=DATE:20250823
DTSTAMP:20260424T173759
CREATED:20240902T074215Z
LAST-MODIFIED:20241016T074227Z
UID:10001249-1755388800-1755907199@www.sanap.ac.za
SUMMARY:International Symposium: Artificial Intelligence in Glaciology
DESCRIPTION:
URL:https://www.sanap.ac.za/event/international-symposium-on-artificial-intelligence-in-glaciology-external
LOCATION:Dartmouth or University of Maryland\, United States
CATEGORIES:International
END:VEVENT
END:VCALENDAR