BEGIN:VCALENDAR
VERSION:2.0
PRODID:-//South African National Antarctic Programme - ECPv6.15.20//NONSGML v1.0//EN
CALSCALE:GREGORIAN
METHOD:PUBLISH
X-WR-CALNAME:South African National Antarctic Programme
X-ORIGINAL-URL:https://www.sanap.ac.za
X-WR-CALDESC:Events for South African National Antarctic Programme
REFRESH-INTERVAL;VALUE=DURATION:PT1H
X-Robots-Tag:noindex
X-PUBLISHED-TTL:PT1H
BEGIN:VTIMEZONE
TZID:Africa/Johannesburg
BEGIN:STANDARD
TZOFFSETFROM:+0200
TZOFFSETTO:+0200
TZNAME:SAST
DTSTART:20250101T000000
END:STANDARD
END:VTIMEZONE
BEGIN:VEVENT
DTSTART;VALUE=DATE:20260222
DTEND;VALUE=DATE:20260228
DTSTAMP:20260424T155353
CREATED:20251111T100134Z
LAST-MODIFIED:20251111T100134Z
UID:10001566-1771718400-1772236799@www.sanap.ac.za
SUMMARY:OSM26: Ocean Sciences Meeting
DESCRIPTION:
URL:https://www.sanap.ac.za/event/osm26-ocean-sciences-meeting
LOCATION:Scottish Event Campus
CATEGORIES:International
END:VEVENT
BEGIN:VEVENT
DTSTART;VALUE=DATE:20260228
DTEND;VALUE=DATE:20260310
DTSTAMP:20260424T155353
CREATED:20251111T100251Z
LAST-MODIFIED:20251111T100251Z
UID:10001567-1772236800-1773100799@www.sanap.ac.za
SUMMARY:Saroma Sea Ice School 2026
DESCRIPTION:
URL:https://www.sanap.ac.za/event/saroma-sea-ice-school-2026
LOCATION:Hokkaido
CATEGORIES:International
END:VEVENT
BEGIN:VEVENT
DTSTART;VALUE=DATE:20260305
DTEND;VALUE=DATE:20260306
DTSTAMP:20260424T155353
CREATED:20240815T145657Z
LAST-MODIFIED:20240830T095443Z
UID:10001333-1772668800-1772755199@www.sanap.ac.za
SUMMARY:Anniversary of the discovery of the Endurance
DESCRIPTION:
URL:https://www.sanap.ac.za/event/anniversary-of-the-discovery-of-the-endurance/2026-03-05
CATEGORIES:International
END:VEVENT
BEGIN:VEVENT
DTSTART;VALUE=DATE:20260308
DTEND;VALUE=DATE:20260309
DTSTAMP:20260424T155353
CREATED:20240830T095728Z
LAST-MODIFIED:20240830T095728Z
UID:10001358-1772928000-1773014399@www.sanap.ac.za
SUMMARY:International Women’s Day
DESCRIPTION:
URL:https://www.sanap.ac.za/event/international-womens-day-3/2026-03-08
CATEGORIES:International
END:VEVENT
BEGIN:VEVENT
DTSTART;VALUE=DATE:20260318
DTEND;VALUE=DATE:20260319
DTSTAMP:20260424T155353
CREATED:20240815T085725Z
LAST-MODIFIED:20240830T121525Z
UID:10001188-1773792000-1773878399@www.sanap.ac.za
SUMMARY:This day in history: the new Marion Island Research Base is officially opened in 2011
DESCRIPTION:
URL:https://www.sanap.ac.za/event/this-day-in-history-the-new-marion-island-research-base-is-officially-opened-in-2011-2/2026-03-18
CATEGORIES:National
END:VEVENT
BEGIN:VEVENT
DTSTART;VALUE=DATE:20260403
DTEND;VALUE=DATE:20260404
DTSTAMP:20260424T155353
CREATED:20240815T085555Z
LAST-MODIFIED:20240830T120926Z
UID:10001097-1775174400-1775260799@www.sanap.ac.za
SUMMARY:This day in history: S.A. Agulhas II arrives in CPT Harbour\, 2012
DESCRIPTION:
URL:https://www.sanap.ac.za/event/this-day-in-history-s-a-agulhas-ii-arrives-in-cpt-harbour-2012-2/2026-04-03
CATEGORIES:National
END:VEVENT
BEGIN:VEVENT
DTSTART;VALUE=DATE:20260418
DTEND;VALUE=DATE:20260419
DTSTAMP:20260424T155353
CREATED:20240815T085449Z
LAST-MODIFIED:20240830T064146Z
UID:10001020-1776470400-1776556799@www.sanap.ac.za
SUMMARY:World Heritage Day
DESCRIPTION:
URL:https://www.sanap.ac.za/event/world-heritage-day-2/2026-04-18
CATEGORIES:International
END:VEVENT
BEGIN:VEVENT
DTSTART;VALUE=DATE:20260418
DTEND;VALUE=DATE:20260419
DTSTAMP:20260424T155353
CREATED:20240815T085601Z
LAST-MODIFIED:20240830T074537Z
UID:10001112-1776470400-1776556799@www.sanap.ac.za
SUMMARY:International Amateur Radio Day
DESCRIPTION:
URL:https://www.sanap.ac.za/event/international-amateur-radio-day-2/2026-04-18
CATEGORIES:International
END:VEVENT
BEGIN:VEVENT
DTSTART;VALUE=DATE:20260422
DTEND;VALUE=DATE:20260423
DTSTAMP:20260424T155353
CREATED:20240815T085734Z
LAST-MODIFIED:20240830T092224Z
UID:10001209-1776816000-1776902399@www.sanap.ac.za
SUMMARY:Earth Day
DESCRIPTION:
URL:https://www.sanap.ac.za/event/earth-day-2/2026-04-22
CATEGORIES:International
END:VEVENT
BEGIN:VEVENT
DTSTART;VALUE=DATE:20260423
DTEND;VALUE=DATE:20260424
DTSTAMP:20260424T155353
CREATED:20240815T085744Z
LAST-MODIFIED:20240830T092614Z
UID:10001223-1776902400-1776988799@www.sanap.ac.za
SUMMARY:World Book and Copyright Day
DESCRIPTION:
URL:https://www.sanap.ac.za/event/world-book-and-copyright-day-2/2026-04-23
CATEGORIES:International
END:VEVENT
BEGIN:VEVENT
DTSTART;VALUE=DATE:20260425
DTEND;VALUE=DATE:20260426
DTSTAMP:20260424T155353
CREATED:20240815T085726Z
LAST-MODIFIED:20240830T093620Z
UID:10001199-1777075200-1777161599@www.sanap.ac.za
SUMMARY:Antarctic Ambassadorship Day
DESCRIPTION:
URL:https://www.sanap.ac.za/event/antarctic-ambassadorship-day-2/2026-04-25
CATEGORIES:International
END:VEVENT
BEGIN:VEVENT
DTSTART;VALUE=DATE:20260425
DTEND;VALUE=DATE:20260426
DTSTAMP:20260424T155353
CREATED:20240815T085744Z
LAST-MODIFIED:20240830T093356Z
UID:10001214-1777075200-1777161599@www.sanap.ac.za
SUMMARY:World Penguin Day
DESCRIPTION:
URL:https://www.sanap.ac.za/event/world-penguin-day-2/2026-04-25
CATEGORIES:International
END:VEVENT
BEGIN:VEVENT
DTSTART;VALUE=DATE:20260518
DTEND;VALUE=DATE:20260519
DTSTAMP:20260424T155353
CREATED:20240815T085751Z
LAST-MODIFIED:20240830T075245Z
UID:10001061-1779062400-1779148799@www.sanap.ac.za
SUMMARY:International Day for Women in Maritime
DESCRIPTION:
URL:https://www.sanap.ac.za/event/international-day-for-women-in-maritime-2/2026-05-18
CATEGORIES:International
END:VEVENT
BEGIN:VEVENT
DTSTART;VALUE=DATE:20260522
DTEND;VALUE=DATE:20260523
DTSTAMP:20260424T155353
CREATED:20240815T085612Z
LAST-MODIFIED:20240830T092419Z
UID:10001129-1779408000-1779494399@www.sanap.ac.za
SUMMARY:International Day for Biological Diversity
DESCRIPTION:
URL:https://www.sanap.ac.za/event/international-day-for-biological-diversity-2/2026-05-22
CATEGORIES:International
END:VEVENT
BEGIN:VEVENT
DTSTART;VALUE=DATE:20260523
DTEND;VALUE=DATE:20260524
DTSTAMP:20260424T155353
CREATED:20240815T085602Z
LAST-MODIFIED:20240830T092719Z
UID:10001124-1779494400-1779580799@www.sanap.ac.za
SUMMARY:World Meteorological Day
DESCRIPTION:
URL:https://www.sanap.ac.za/event/world-meteorological-day-2/2026-05-23
CATEGORIES:International
END:VEVENT
BEGIN:VEVENT
DTSTART;VALUE=DATE:20260525
DTEND;VALUE=DATE:20260526
DTSTAMP:20260424T155353
CREATED:20240815T145836Z
LAST-MODIFIED:20240830T121709Z
UID:10001340-1779667200-1779753599@www.sanap.ac.za
SUMMARY:Africa Day
DESCRIPTION:
URL:https://www.sanap.ac.za/event/africa-day/2026-05-25
CATEGORIES:National
END:VEVENT
BEGIN:VEVENT
DTSTART;VALUE=DATE:20260605
DTEND;VALUE=DATE:20260606
DTSTAMP:20260424T155353
CREATED:20190416T132915Z
LAST-MODIFIED:20240830T095349Z
UID:10000994-1780617600-1780703999@www.sanap.ac.za
SUMMARY:World Environment Day
DESCRIPTION:
URL:https://www.sanap.ac.za/event/world-environment-day-3/2026-06-05
CATEGORIES:International
END:VEVENT
BEGIN:VEVENT
DTSTART;VALUE=DATE:20260608
DTEND;VALUE=DATE:20260609
DTSTAMP:20260424T155353
CREATED:20240815T085446Z
LAST-MODIFIED:20240830T095625Z
UID:10001011-1780876800-1780963199@www.sanap.ac.za
SUMMARY:World Oceans Day
DESCRIPTION:
URL:https://www.sanap.ac.za/event/world-oceans-day-2/2026-06-08
CATEGORIES:International
END:VEVENT
BEGIN:VEVENT
DTSTART;VALUE=DATE:20260609
DTEND;VALUE=DATE:20260613
DTSTAMP:20260424T155353
CREATED:20251111T100403Z
LAST-MODIFIED:20251111T100403Z
UID:10001568-1780963200-1781308799@www.sanap.ac.za
SUMMARY:Space Climate 10 — A Special Anniversary Edition
DESCRIPTION:
URL:https://www.sanap.ac.za/event/space-climate-10-a-special-anniversary-edition
LOCATION:Mariehamn
CATEGORIES:International
END:VEVENT
BEGIN:VEVENT
DTSTART;VALUE=DATE:20260616
DTEND;VALUE=DATE:20260617
DTSTAMP:20260424T155353
CREATED:20240815T085613Z
LAST-MODIFIED:20240830T121428Z
UID:10001144-1781568000-1781654399@www.sanap.ac.za
SUMMARY:Youth Day
DESCRIPTION:
URL:https://www.sanap.ac.za/event/youth-day-2/2026-06-16
CATEGORIES:National
END:VEVENT
BEGIN:VEVENT
DTSTART;VALUE=DATE:20260619
DTEND;VALUE=DATE:20260620
DTSTAMP:20260424T155353
CREATED:20240815T085612Z
LAST-MODIFIED:20240830T085849Z
UID:10001134-1781827200-1781913599@www.sanap.ac.za
SUMMARY:World Albatross day
DESCRIPTION:
URL:https://www.sanap.ac.za/event/world-albatross-day-2/2026-06-19
CATEGORIES:International
END:VEVENT
BEGIN:VEVENT
DTSTART;VALUE=DATE:20260621
DTEND;VALUE=DATE:20260622
DTSTAMP:20260424T155353
CREATED:20240815T085519Z
LAST-MODIFIED:20240830T084845Z
UID:10001050-1782000000-1782086399@www.sanap.ac.za
SUMMARY:International Day of the Celebration of the Solstice - Midwinter
DESCRIPTION:
URL:https://www.sanap.ac.za/event/international-day-of-the-celebration-of-the-solstice-midwinter-2/2026-06-21
CATEGORIES:International
END:VEVENT
BEGIN:VEVENT
DTSTART;VALUE=DATE:20260625
DTEND;VALUE=DATE:20260626
DTSTAMP:20260424T155353
CREATED:20240815T085744Z
LAST-MODIFIED:20240830T093725Z
UID:10001219-1782345600-1782431999@www.sanap.ac.za
SUMMARY:Day of the Seafarer
DESCRIPTION:
URL:https://www.sanap.ac.za/event/day-of-the-seafarer-2/2026-06-25
CATEGORIES:International
END:VEVENT
BEGIN:VEVENT
DTSTART;VALUE=DATE:20260705
DTEND;VALUE=DATE:20260711
DTSTAMP:20260424T155353
CREATED:20240902T074348Z
LAST-MODIFIED:20241016T074206Z
UID:10001250-1783209600-1783727999@www.sanap.ac.za
SUMMARY:International Symposium: Interactions of Ice Sheets & Glaciers with the Ocean
DESCRIPTION:
URL:https://www.sanap.ac.za/event/international-symposium-on-interactions-of-ice-sheets-and-glaciers-with-the-ocean-external
LOCATION:Scripps Institution of Oceanography
CATEGORIES:International
END:VEVENT
BEGIN:VEVENT
DTSTART;VALUE=DATE:20260705
DTEND;VALUE=DATE:20260711
DTSTAMP:20260424T155353
CREATED:20251111T100522Z
LAST-MODIFIED:20251111T100522Z
UID:10001569-1783209600-1783727999@www.sanap.ac.za
SUMMARY:International Symposium on Interactions of Ice Sheets and Glaciers with the Ocean
DESCRIPTION:
URL:https://www.sanap.ac.za/event/international-symposium-on-interactions-of-ice-sheets-and-glaciers-with-the-ocean
LOCATION:Scripps Institution of Oceanography
CATEGORIES:International
END:VEVENT
BEGIN:VEVENT
DTSTART;VALUE=DATE:20260718
DTEND;VALUE=DATE:20260719
DTSTAMP:20260424T155353
CREATED:20240815T085613Z
LAST-MODIFIED:20240830T121455Z
UID:10001139-1784332800-1784419199@www.sanap.ac.za
SUMMARY:Nelson Mandela International Day
DESCRIPTION:
URL:https://www.sanap.ac.za/event/nelson-mandela-international-day-2/2026-07-18
CATEGORIES:National
END:VEVENT
BEGIN:VEVENT
DTSTART;VALUE=DATE:20260728
DTEND;VALUE=DATE:20260729
DTSTAMP:20260424T155353
CREATED:20240815T085820Z
LAST-MODIFIED:20240830T093939Z
UID:10001242-1785196800-1785283199@www.sanap.ac.za
SUMMARY:World Nature Conservation Day
DESCRIPTION:
URL:https://www.sanap.ac.za/event/world-nature-conservation-day-2/2026-07-28
CATEGORIES:International
END:VEVENT
BEGIN:VEVENT
DTSTART;VALUE=DATE:20260801
DTEND;VALUE=DATE:20260802
DTSTAMP:20260424T155353
CREATED:20240815T085752Z
LAST-MODIFIED:20240830T121625Z
UID:10001074-1785542400-1785628799@www.sanap.ac.za
SUMMARY:Marine Protected Areas Day
DESCRIPTION:
URL:https://www.sanap.ac.za/event/marine-protected-areas-day-2/2026-08-01
CATEGORIES:National
END:VEVENT
BEGIN:VEVENT
DTSTART;VALUE=DATE:20260801
DTEND;VALUE=DATE:20260807
DTSTAMP:20260424T155353
CREATED:20240815T085915Z
LAST-MODIFIED:20240903T071513Z
UID:10001302-1785542400-1786060799@www.sanap.ac.za
SUMMARY:National Science Week
DESCRIPTION:
URL:https://www.sanap.ac.za/event/national-science-week-2023-2/2026-08-01
CATEGORIES:National
END:VEVENT
BEGIN:VEVENT
DTSTART;VALUE=DATE:20260804
DTEND;VALUE=DATE:20260808
DTSTAMP:20260424T155353
CREATED:20251111T101218Z
LAST-MODIFIED:20251111T101218Z
UID:10001574-1785801600-1786147199@www.sanap.ac.za
SUMMARY:COMNAP 2026 Annual General Meeting & Antarctic SAR Workshop
DESCRIPTION:
URL:https://www.sanap.ac.za/event/comnap-2026-annual-general-meeting-antarctic-sar-workshop
LOCATION:Tromsø\, Norway
CATEGORIES:International
END:VEVENT
END:VCALENDAR